BEGIN:VCALENDAR
VERSION:2.0
PRODID:-//Uniting Church in Australia. Synod of Victoria and Tasmania - ECPv6.15.17.1//NONSGML v1.0//EN
CALSCALE:GREGORIAN
METHOD:PUBLISH
X-WR-CALNAME:Uniting Church in Australia. Synod of Victoria and Tasmania
X-ORIGINAL-URL:https://victas.uca.org.au
X-WR-CALDESC:Events for Uniting Church in Australia. Synod of Victoria and Tasmania
REFRESH-INTERVAL;VALUE=DURATION:PT1H
X-Robots-Tag:noindex
X-PUBLISHED-TTL:PT1H
BEGIN:VTIMEZONE
TZID:Australia/Melbourne
BEGIN:STANDARD
TZOFFSETFROM:+1100
TZOFFSETTO:+1000
TZNAME:AEST
DTSTART:20180331T160000
END:STANDARD
BEGIN:DAYLIGHT
TZOFFSETFROM:+1000
TZOFFSETTO:+1100
TZNAME:AEDT
DTSTART:20181006T160000
END:DAYLIGHT
BEGIN:STANDARD
TZOFFSETFROM:+1100
TZOFFSETTO:+1000
TZNAME:AEST
DTSTART:20190406T160000
END:STANDARD
BEGIN:DAYLIGHT
TZOFFSETFROM:+1000
TZOFFSETTO:+1100
TZNAME:AEDT
DTSTART:20191005T160000
END:DAYLIGHT
BEGIN:STANDARD
TZOFFSETFROM:+1100
TZOFFSETTO:+1000
TZNAME:AEST
DTSTART:20200404T160000
END:STANDARD
BEGIN:DAYLIGHT
TZOFFSETFROM:+1000
TZOFFSETTO:+1100
TZNAME:AEDT
DTSTART:20201003T160000
END:DAYLIGHT
END:VTIMEZONE
BEGIN:VEVENT
DTSTART;TZID=Australia/Melbourne:20190915T133000
DTEND;TZID=Australia/Melbourne:20190915T143000
DTSTAMP:20260424T032309
CREATED:20190730T052518Z
LAST-MODIFIED:20240605T021313Z
UID:10000200-1568554200-1568557800@victas.uca.org.au
SUMMARY:Launch of the Mental Health Kit for Congregations
DESCRIPTION:You are invited to the launch of the Mental Health Kit for Congregations.\nTo be launched by Professor Allan Fels AO\, Former Chairman of the Australian Competition and Consumer Commission\, now a Commissioner on the Victorian Royal Commission into Mental Health. \n  \n\nFor refreshment purposes\, RSVP Ann Byrne by 10 September at ann.byrne@victas.uca.org.au or call 03 9340 8815. \nDownload event flyer \n 
URL:https://victas.uca.org.au/event/launch-mental-health-kit/
LOCATION:Brunswick Uniting Church\, 214 Sydney Road\, Brunswick\, Victoria\, Australia
CATEGORIES:Disability Inclusion
ATTACH;FMTTYPE=image/jpeg:https://victas.uca.org.au/wp-content/uploads/2019/07/Launch-of-the-Mental-Health-Kit-for-Congregations.jpg
ORGANIZER;CN="Ann Byrne":MAILTO:ann.byrne@victas.uca.org.au
GEO:-37.772608;144.9613464
X-APPLE-STRUCTURED-LOCATION;VALUE=URI;X-ADDRESS=Brunswick Uniting Church 214 Sydney Road Brunswick Victoria Australia;X-APPLE-RADIUS=500;X-TITLE=214 Sydney Road:geo:144.9613464,-37.772608
END:VEVENT
END:VCALENDAR