BEGIN:VCALENDAR
VERSION:2.0
PRODID:-//Uniting Church in Australia. Synod of Victoria and Tasmania - ECPv6.15.17.1//NONSGML v1.0//EN
CALSCALE:GREGORIAN
METHOD:PUBLISH
X-ORIGINAL-URL:https://victas.uca.org.au
X-WR-CALDESC:Events for Uniting Church in Australia. Synod of Victoria and Tasmania
REFRESH-INTERVAL;VALUE=DURATION:PT1H
X-Robots-Tag:noindex
X-PUBLISHED-TTL:PT1H
BEGIN:VTIMEZONE
TZID:Australia/Melbourne
BEGIN:STANDARD
TZOFFSETFROM:+1100
TZOFFSETTO:+1000
TZNAME:AEST
DTSTART:20180331T160000
END:STANDARD
BEGIN:DAYLIGHT
TZOFFSETFROM:+1000
TZOFFSETTO:+1100
TZNAME:AEDT
DTSTART:20181006T160000
END:DAYLIGHT
BEGIN:STANDARD
TZOFFSETFROM:+1100
TZOFFSETTO:+1000
TZNAME:AEST
DTSTART:20190406T160000
END:STANDARD
BEGIN:DAYLIGHT
TZOFFSETFROM:+1000
TZOFFSETTO:+1100
TZNAME:AEDT
DTSTART:20191005T160000
END:DAYLIGHT
BEGIN:STANDARD
TZOFFSETFROM:+1100
TZOFFSETTO:+1000
TZNAME:AEST
DTSTART:20200404T160000
END:STANDARD
BEGIN:DAYLIGHT
TZOFFSETFROM:+1000
TZOFFSETTO:+1100
TZNAME:AEDT
DTSTART:20201003T160000
END:DAYLIGHT
END:VTIMEZONE
BEGIN:VEVENT
DTSTART;TZID=Australia/Melbourne:20191123T093000
DTEND;TZID=Australia/Melbourne:20191123T153000
DTSTAMP:20260423T223001
CREATED:20190304T033631Z
LAST-MODIFIED:20240605T015407Z
UID:10000178-1574501400-1574523000@victas.uca.org.au
SUMMARY:Space for story: The Wounded Healer
DESCRIPTION:Do you need some story nurture?\nWould you like to dedicate some undistracted time to dwelling\, soaking and basking in story? \nWell-crafted words can speak to the soul and call forth new awareness. Join us on a Storytelling Retreat. \n\n2019 Storytelling Retreats across the year:\nFour Saturdays\n20 July\, 21 September\, 19 October\, 23 November. Enrol in the full series\, or any single day(s). \nTimes:\n9.30am-3.30pm \nThree beautiful venues:\nRiddells Creek\, Phillip Island\, Parkville. Led by teachers\, alumni and friends of Art of Story. \n\nFormat:\nStorytelling\, artmaking\, journaling\, walking\, stillness and silence. An undistracted space will be hosted and held for you. Feel welcomed\, relaxed\, nourished. \n\nHow the day unfolds:\nThe first hour will hold a morning telling led by skilled storytellers\, followed by the opportunity to bring the stories and your own experience into your inner conversation as you choose – go for a solo walk\, write and use art materials. For the final hour we re-gather and are free to share some of the gifts of the day should we choose. Delicious treats\, teas and coffee will be provided. Simple artmaking materials are included in the price. \nBYO packed lunch to eat in the venue or have as a solo picnic on\nyour walk. \n\nWhat to bring/wear:\n\nLoose\, comfortable clothing\nWalking shoes\nJournal and pens\nBYO packed lunch\n\n\nRegistration:\nEarly bird package discounts – pay before 21 Feb and receive a complimentary ticket to Pádraig Ó Tuama’s seminar “Theology as Story: Believing in the Truth of People” on 9 May. \nEarly Bird payments are non-refundable \n\nBook all four Space for Story Retreat days for $300 per person (fully waged)\nor $500 for two people – bring a buddy.\n\nIndividual days\nThese can be booked as follows: \n\n$85 per person per Saturday\, waged ($340 for all four)\n$65 part-waged\, (part time students and Seniors Card pay part-waged rate) ($260 for all four)\n$45 full-time students or pension concession card holders ($180 for all four)\n\nRegister online at: https://www.trybooking.com/BBRPR \n\nInformation:\nBYO packed lunch for the day retreats in Riddells Creek and Parkville. We will supply teas and coffee and generous snacks. You may like to find overnight accommodation to extend the spaciousness of these retreats. See suggestions on the registration website. \nLunch will be provided for Playfulness and Story in Cowes. We will head out for dinner after the workshop at your own cost. Staying at Phillip Island is recommended. You may organise your own accommodation or check the options listed on the registration website. \nHosted by:\nJulie Perrin\, Fiona Bottcher\, Katherine Jones\, Jess Holt\, Annette Buckley\, Christina Rowntree and Ian Turnnidge. \nNote these dates too:\nOn 9-10 May we will be hosting Irish poet and storyteller Pádraig Ó Tuama at the Centre for Theology and Ministry\, College Cres\, Parkville. \nSave these dates and go to: https://www.trybooking.com/BBOWW \nDownload the event flyer
URL:https://victas.uca.org.au/event/space-for-story-the-wounded-healer/
LOCATION:Riddells Creek Uniting Church\, 3 Sutherlands Road\, Riddells Creek\, Victoria\, 3431\, Australia
CATEGORIES:Featured,Theology and the Arts
ATTACH;FMTTYPE=image/jpeg:https://victas.uca.org.au/wp-content/uploads/2019/03/Space-for-story-forest.jpg
ORGANIZER;CN="Ann Byrne":MAILTO:ann.byrne@victas.uca.org.au
GEO:-37.4633981;144.6793117
X-APPLE-STRUCTURED-LOCATION;VALUE=URI;X-ADDRESS=Riddells Creek Uniting Church 3 Sutherlands Road Riddells Creek Victoria 3431 Australia;X-APPLE-RADIUS=500;X-TITLE=3 Sutherlands Road:geo:144.6793117,-37.4633981
END:VEVENT
BEGIN:VEVENT
DTSTART;TZID=Australia/Melbourne:20191019T093000
DTEND;TZID=Australia/Melbourne:20191019T153000
DTSTAMP:20260423T223001
CREATED:20190304T045745Z
LAST-MODIFIED:20240605T015405Z
UID:10000181-1571477400-1571499000@victas.uca.org.au
SUMMARY:Space for story: Telling Ancient Stories Today - Listening for wisdom
DESCRIPTION:Do you need some story nurture?\nWould you like to dedicate some undistracted time to dwelling\, soaking and basking in story? \nWell-crafted words can speak to the soul and call forth new awareness. Join us on a Storytelling Retreat. \n\n2019 Storytelling Retreats across the year:\nFour Saturdays\n20 July\, 21 September\, 19 October\, 23 November. Enrol in the full series\, or any single day(s). \nTimes:\n9.30am-3.30pm \nThree beautiful venues:\nRiddells Creek\, Phillip Island\, Parkville. Led by teachers\, alumni and friends of Art of Story. \n\nFormat:\nStorytelling\, artmaking\, journaling\, walking\, stillness and silence. An undistracted space will be hosted and held for you. Feel welcomed\, relaxed\, nourished. \n\nHow the day unfolds:\nThe first hour will hold a morning telling led by skilled storytellers\, followed by the opportunity to bring the stories and your own experience into your inner conversation as you choose – go for a solo walk\, write and use art materials. For the final hour we re-gather and are free to share some of the gifts of the day should we choose. Delicious treats\, teas and coffee will be provided. Simple artmaking materials are included in the price. \nBYO packed lunch to eat in the venue or have as a solo picnic on\nyour walk. \n\nWhat to bring/wear:\n\nLoose\, comfortable clothing\nWalking shoes\nJournal and pens\nBYO packed lunch\n\n\nRegistration:\nEarly bird package discounts – pay before 21 Feb and receive a complimentary ticket to Pádraig Ó Tuama’s seminar “Theology as Story: Believing in the Truth of People” on 9 May. \nEarly Bird payments are non-refundable \n\nBook all four Space for Story Retreat days for $300 per person (fully waged)\nor $500 for two people – bring a buddy.\n\nIndividual days\nThese can be booked as follows: \n\n$85 per person per Saturday\, waged ($340 for all four)\n$65 part-waged\, (part time students and Seniors Card pay part-waged rate) ($260 for all four)\n$45 full-time students or pension concession card holders ($180 for all four)\n\nRegister online at: https://www.trybooking.com/BBRPR \n\nInformation:\nBYO packed lunch for the day retreats in Riddells Creek and Parkville. We will supply teas and coffee and generous snacks. You may like to find overnight accommodation to extend the spaciousness of these retreats. See suggestions on the registration website. \nLunch will be provided for Playfulness and Story in Cowes. We will head out for dinner after the workshop at your own cost. Staying at Phillip Island is recommended. You may organise your own accommodation or check the options listed on the registration website. \nHosted by:\nJulie Perrin\, Fiona Bottcher\, Katherine Jones\, Jess Holt\, Annette Buckley\, Christina Rowntree and Ian Turnnidge. \nNote these dates too:\nOn 9-10 May we will be hosting Irish poet and storyteller Pádraig Ó Tuama at the Centre for Theology and Ministry\, College Cres\, Parkville. \nSave these dates and go to: https://www.trybooking.com/BBOWW \nDownload the event flyer
URL:https://victas.uca.org.au/event/space-for-story-telling-ancient-stories-today-listening-for-wisdom/
LOCATION:Riddells Creek Uniting Church\, 3 Sutherlands Road\, Riddells Creek\, Victoria\, 3431\, Australia
CATEGORIES:Continuing Education,Featured,Leadership Development,Theology and the Arts
ATTACH;FMTTYPE=image/jpeg:https://victas.uca.org.au/wp-content/uploads/2019/03/Space-for-story-forest.jpg
ORGANIZER;CN="Ann Byrne":MAILTO:ann.byrne@victas.uca.org.au
GEO:-37.4633981;144.6793117
X-APPLE-STRUCTURED-LOCATION;VALUE=URI;X-ADDRESS=Riddells Creek Uniting Church 3 Sutherlands Road Riddells Creek Victoria 3431 Australia;X-APPLE-RADIUS=500;X-TITLE=3 Sutherlands Road:geo:144.6793117,-37.4633981
END:VEVENT
BEGIN:VEVENT
DTSTART;TZID=Australia/Melbourne:20190921T093000
DTEND;TZID=Australia/Melbourne:20190921T153000
DTSTAMP:20260423T223001
CREATED:20190304T045337Z
LAST-MODIFIED:20240605T015406Z
UID:10000180-1569058200-1569079800@victas.uca.org.au
SUMMARY:Space for story: True Life Tales - Telling your own story
DESCRIPTION:Do you need some story nurture?\nWould you like to dedicate some undistracted time to dwelling\, soaking and basking in story? \nWell-crafted words can speak to the soul and call forth new awareness. Join us on a Storytelling Retreat. \n\n2019 Storytelling Retreats across the year:\nFour Saturdays\n20 July\, 21 September\, 19 October\, 23 November. Enrol in the full series\, or any single day(s). \nTimes:\n9.30am-3.30pm \nThree beautiful venues:\nRiddells Creek\, Phillip Island\, Parkville. Led by teachers\, alumni and friends of Art of Story. \n\nFormat:\nStorytelling\, artmaking\, journaling\, walking\, stillness and silence. An undistracted space will be hosted and held for you. Feel welcomed\, relaxed\, nourished. \n\nHow the day unfolds:\nThe first hour will hold a morning telling led by skilled storytellers\, followed by the opportunity to bring the stories and your own experience into your inner conversation as you choose – go for a solo walk\, write and use art materials. For the final hour we re-gather and are free to share some of the gifts of the day should we choose. Delicious treats\, teas and coffee will be provided. Simple artmaking materials are included in the price. \nBYO packed lunch to eat in the venue or have as a solo picnic on\nyour walk. \n\nWhat to bring/wear:\n\nLoose\, comfortable clothing\nWalking shoes\nJournal and pens\nBYO packed lunch\n\n\nRegistration:\nEarly bird package discounts – pay before 21 Feb and receive a complimentary ticket to Pádraig Ó Tuama’s seminar “Theology as Story: Believing in the Truth of People” on 9 May. \nEarly Bird payments are non-refundable \n\nBook all four Space for Story Retreat days for $300 per person (fully waged)\nor $500 for two people – bring a buddy.\n\nIndividual days\nThese can be booked as follows: \n\n$85 per person per Saturday\, waged ($340 for all four)\n$65 part-waged\, (part time students and Seniors Card pay part-waged rate) ($260 for all four)\n$45 full-time students or pension concession card holders ($180 for all four)\n\nRegister online at: https://www.trybooking.com/BBRPR \n\nInformation:\nBYO packed lunch for the day retreats in Riddells Creek and Parkville. We will supply teas and coffee and generous snacks. You may like to find overnight accommodation to extend the spaciousness of these retreats. See suggestions on the registration website. \nLunch will be provided for Playfulness and Story in Cowes. We will head out for dinner after the workshop at your own cost. Staying at Phillip Island is recommended. You may organise your own accommodation or check the options listed on the registration website. \nHosted by:\nJulie Perrin\, Fiona Bottcher\, Katherine Jones\, Jess Holt\, Annette Buckley\, Christina Rowntree and Ian Turnnidge. \nNote these dates too:\nOn 9-10 May we will be hosting Irish poet and storyteller Pádraig Ó Tuama at the Centre for Theology and Ministry\, College Cres\, Parkville. \nSave these dates and go to: https://www.trybooking.com/BBOWW \nDownload the event flyer
URL:https://victas.uca.org.au/event/space-for-story-true-life-tales-telling-your-own-story/
LOCATION:Centre for Theology & Ministry\, 29 College Crescent\, Parkville\, Victoria\, 3052\, Australia
CATEGORIES:Theology and the Arts
ATTACH;FMTTYPE=image/jpeg:https://victas.uca.org.au/wp-content/uploads/2019/03/Space-for-story-forest.jpg
ORGANIZER;CN="Ann Byrne":MAILTO:ann.byrne@victas.uca.org.au
GEO:-37.7922071;144.9619031
X-APPLE-STRUCTURED-LOCATION;VALUE=URI;X-ADDRESS=Centre for Theology & Ministry 29 College Crescent Parkville Victoria 3052 Australia;X-APPLE-RADIUS=500;X-TITLE=29 College Crescent:geo:144.9619031,-37.7922071
END:VEVENT
BEGIN:VEVENT
DTSTART;TZID=Australia/Melbourne:20190720T093000
DTEND;TZID=Australia/Melbourne:20190720T153000
DTSTAMP:20260423T223001
CREATED:20190304T034421Z
LAST-MODIFIED:20240605T015406Z
UID:10000179-1563615000-1563636600@victas.uca.org.au
SUMMARY:Space for story: Playfulness and Story
DESCRIPTION:Do you need some story nurture?\nWould you like to dedicate some undistracted time to dwelling\, soaking and basking in story? \nWell-crafted words can speak to the soul and call forth new awareness. Join us on a Storytelling Retreat. \n\n2019 Storytelling Retreats across the year:\nFour Saturdays\n20 July\, 21 September\, 19 October\, 23 November. Enrol in the full series\, or any single day(s). \nTimes:\n9.30am-3.30pm \nThree beautiful venues:\nRiddells Creek\, Phillip Island\, Parkville. Led by teachers\, alumni and friends of Art of Story. \n\nFormat:\nStorytelling\, artmaking\, journaling\, walking\, stillness and silence. An undistracted space will be hosted and held for you. Feel welcomed\, relaxed\, nourished. \n\nHow the day unfolds:\nThe first hour will hold a morning telling led by skilled storytellers\, followed by the opportunity to bring the stories and your own experience into your inner conversation as you choose – go for a solo walk\, write and use art materials. For the final hour we re-gather and are free to share some of the gifts of the day should we choose. Delicious treats\, teas and coffee will be provided. Simple artmaking materials are included in the price. \nBYO packed lunch to eat in the venue or have as a solo picnic on\nyour walk. \n\nWhat to bring/wear:\n\nLoose\, comfortable clothing\nWalking shoes\nJournal and pens\nBYO packed lunch\n\n\nRegistration:\nEarly bird package discounts – pay before 21 Feb and receive a complimentary ticket to Pádraig Ó Tuama’s seminar “Theology as Story: Believing in the Truth of People” on 9 May. \nEarly Bird payments are non-refundable \n\nBook all four Space for Story Retreat days for $300 per person (fully waged)\nor $500 for two people – bring a buddy.\n\nIndividual days\nThese can be booked as follows: \n\n$85 per person per Saturday\, waged ($340 for all four)\n$65 part-waged\, (part time students and Seniors Card pay part-waged rate) ($260 for all four)\n$45 full-time students or pension concession card holders ($180 for all four)\n\nRegister online at: https://ucavt.goregister.com.au/spaceforstory \n\nInformation:\nBYO packed lunch for the day retreats in Riddells Creek and Parkville. We will supply teas and coffee and generous snacks. You may like to find overnight accommodation to extend the spaciousness of these retreats. See suggestions on the registration website. \nLunch will be provided for Playfulness and Story in Cowes. We will head out for dinner after the workshop at your own cost. Staying at Phillip Island is recommended. You may organise your own accommodation or check the options listed on the registration website. \nHosted by:\nJulie Perrin\, Fiona Bottcher\, Katherine Jones\, Jess Holt\, Annette Buckley\, Christina Rowntree and Ian Turnnidge. \nNote these dates too:\nOn 9-10 May we will be hosting Irish poet and storyteller Pádraig Ó Tuama at the Centre for Theology and Ministry\, College Cres\, Parkville. \nSave these dates and go to https://ucavt.goregister. com.au/spaceforstory/info/storywork/ for separate enrolment/registration \nDownload the event flyer
URL:https://victas.uca.org.au/event/space-for-story-playfulness-and-story/
LOCATION:Cowes Uniting Church\, 86 Chapel Street\, Cowes\, Victoria\, 3922\, Australia
CATEGORIES:Theology and the Arts
ATTACH;FMTTYPE=image/jpeg:https://victas.uca.org.au/wp-content/uploads/2019/03/Space-for-story-forest.jpg
ORGANIZER;CN="Ann Byrne":MAILTO:ann.byrne@victas.uca.org.au
GEO:-38.4500718;145.2370409
X-APPLE-STRUCTURED-LOCATION;VALUE=URI;X-ADDRESS=Cowes Uniting Church 86 Chapel Street Cowes Victoria 3922 Australia;X-APPLE-RADIUS=500;X-TITLE=86 Chapel Street:geo:145.2370409,-38.4500718
END:VEVENT
BEGIN:VEVENT
DTSTART;TZID=Australia/Melbourne:20190510T100000
DTEND;TZID=Australia/Melbourne:20190510T160000
DTSTAMP:20260423T223001
CREATED:20190304T023259Z
LAST-MODIFIED:20240605T015353Z
UID:10000177-1557482400-1557504000@victas.uca.org.au
SUMMARY:Storywork: A full day workshop for storytellers
DESCRIPTION:Everywhere we are surrounded by story. Someone will say “You’ll never guess what happened me on the tram today”\, or “I can’t believe my boss is such an idiot”. Behind every statement lies a story\, and behind every story lies another story. This session\, led by Pádraig Ó Tuama\, will use narrative technique to bring stories out in the gathered room\, and share narrative techniques for use in congregational and community groups. \nThe Gospels as Story: Wandering through the Narrative Pathways of the Gospels. \nIf you were to tell the gospel as story\, where would you start? Whose voice would you use? What techniques would you employ for drama\, tension\, pain and insight? Which characters would you present sympathetically? How would you distinguish your use of narration? What would you imagine about your audiences\, and what would you hope your work in telling would achieve? \nThe four gospels are\, ultimately\, works of literature. Each has a particular style and the gospel writers craft their characters (Jesus\, Pharisees\, anonymous people) with distinction. This session will explore some of the literary and artistic particularities of the sketches of Jesus — and others — in the four gospels. \nMorning and afternoon tea with healthy snacks will be provided. \nPlan to arrive at 9.30am to settle in\, have a cuppa and meet other participants. \nWhat to bring: \n\nJournal and pens\nPacked lunch or purchase nearby. Fridge and microwave available.\n\nPádraig Ó Tuama\nPádraig is a peacemaker\, poet/prophet and artist/theologian. He writes poems\, prose and prayers\, and has led writing workshops and art retreats. He has also been artist in residence at Synod meetings. \nPádraig leads the Corrymeela Community in Northern Ireland and is committed to the healing of social\, religious and political divisions that exist in Northern Ireland and throughout the world. \nDuring the day\, Pádraig Ó Tuama will engage you in practices of using story in congregations and community groups. \n“Pádraig Ó Tuama is an extraordinary person\, whose influence extends quietly and gracefully across the world. His poetry bears these same qualities and brings him close. It is a gift to us all.” – Krista Tippett (Creator and host of ‘On Being’) \nFor full bibliography here. \nREGISTRATION: \nStorywork special combined price: Seminar and Storywork\n$120 full price (waged)\n$90 (part-waged\, part-time students\, seniors card) $75 (full-time students\, pension card holders) \nSeminar only:\n$15 waged\n$10 concession (students\, pension card\, part-time workers) \nStorywork only:\n$110 waged\n$70 concession (students\, pension card\, part-time workers) \nEnquiries:\nChristina Rowntree\, Theology and the Arts Ministry\, P: 9340 8813\, E: chris.rowntree@victas.uca.org.au or contact Ann Byrne for help with registration at ann.byrne@victas.uca.org.au or 9340 8815 \nPlease register online. \nDownload event flyer \nSee the connected event: Seminar: Theology as Story: Believing in the Truth of People
URL:https://victas.uca.org.au/event/storywork-a-full-day-workshop-for-storytellers/
LOCATION:Centre for Theology & Ministry\, 29 College Crescent\, Parkville\, Victoria\, 3052\, Australia
CATEGORIES:Theology and the Arts
ATTACH;FMTTYPE=image/jpeg:https://victas.uca.org.au/wp-content/uploads/2019/03/STORYWORK-workshop-with-Pádraig-Ó-Tuama.jpg
ORGANIZER;CN="Christina Rowntree":MAILTO:chris.rowntree@victas.uca.org.au
GEO:-37.7922071;144.9619031
X-APPLE-STRUCTURED-LOCATION;VALUE=URI;X-ADDRESS=Centre for Theology & Ministry 29 College Crescent Parkville Victoria 3052 Australia;X-APPLE-RADIUS=500;X-TITLE=29 College Crescent:geo:144.9619031,-37.7922071
END:VEVENT
BEGIN:VEVENT
DTSTART;TZID=Australia/Melbourne:20190509T190000
DTEND;TZID=Australia/Melbourne:20190509T210000
DTSTAMP:20260423T223001
CREATED:20190304T015708Z
LAST-MODIFIED:20240605T015351Z
UID:10000175-1557428400-1557435600@victas.uca.org.au
SUMMARY:Seminar - Theology as Story: Believing in the Truth of People
DESCRIPTION:In realms of religion\, the word “belief” is often used. What do you believe? Do you agree with this belief? Or that belief? Do you think what\nyou believe is true? This seminar\, led by Pádraig Ó Tuama\, will move the focus of belief away from what we believe to who we believe. Focusing on a central question of “tell us a time when you were believed” we will uncover the power of belief when it’s enacted as a reciprocal and life-giving gesture\, especially when it is least expected. \nFor: Storytellers\, artists\, poets\, writers and those who lead congregations in ministry and mission. \nWine and nibbles will be available from 6.30pm. \nPádraig Ó Tuama\nPádraig is a peacemaker\, poet/prophet and artist/theologian. He writes poems\, prose and prayers\, and has led writing workshops and art retreats. He has also been artist in residence at Synod meetings. \nPádraig leads the Corrymeela Community in Northern Ireland and is committed to the healing of social\, religious and political divisions that exist in Northern Ireland and throughout the world. \n“Pádraig Ó Tuama is an extraordinary person\, whose influence extends quietly and gracefully across the world. His poetry bears these same qualities and brings him close. It is a gift to us all.” – Krista Tippett (Creator and host of ‘On Being’) \nFor full bibliography go to: https://bit.ly/2UVeEcT \nREGISTRATION:\nStorywork special combined price: Seminar and Storywork\n$120 full price (waged)\n$90 (part-waged\, part-time students\, seniors card) $75 (full-time students\, pension card holders) \nSeminar only:\n$15 waged\n$10 concession (students\, pension card\, part-time workers) \nStorywork only:\n$110 waged\n$70 concession (students\, pension card\, part-time workers) \nEnquiries:\nChristina Rowntree\, Theology and the Arts Ministry\, P: 9340 8813\, E: chris.rowntree@victas.uca.org.au or contact Ann Byrne for help with registration at ann.byrne@victas.uca.org.au or 9340 8815 \nPlease register online at https://www.trybooking.com/BBOWW \nDownload event flyer \n  \nSee the connected event: Storywork: A full day workshop for storytellers
URL:https://victas.uca.org.au/event/seminar-theology-as-story-believing-in-the-truth-of-people/
LOCATION:Centre for Theology & Ministry\, 29 College Crescent\, Parkville\, Victoria\, 3052\, Australia
CATEGORIES:Featured,Theology and the Arts
ATTACH;FMTTYPE=image/jpeg:https://victas.uca.org.au/wp-content/uploads/2019/03/Pádraig-Ó-Tuama.jpg
ORGANIZER;CN="Christina Rowntree":MAILTO:chris.rowntree@victas.uca.org.au
GEO:-37.7922071;144.9619031
X-APPLE-STRUCTURED-LOCATION;VALUE=URI;X-ADDRESS=Centre for Theology & Ministry 29 College Crescent Parkville Victoria 3052 Australia;X-APPLE-RADIUS=500;X-TITLE=29 College Crescent:geo:144.9619031,-37.7922071
END:VEVENT
END:VCALENDAR