BEGIN:VCALENDAR
VERSION:2.0
PRODID:-//Uniting Church in Australia. Synod of Victoria and Tasmania - ECPv6.15.17.1//NONSGML v1.0//EN
CALSCALE:GREGORIAN
METHOD:PUBLISH
X-WR-CALNAME:Uniting Church in Australia. Synod of Victoria and Tasmania
X-ORIGINAL-URL:https://victas.uca.org.au
X-WR-CALDESC:Events for Uniting Church in Australia. Synod of Victoria and Tasmania
REFRESH-INTERVAL;VALUE=DURATION:PT1H
X-Robots-Tag:noindex
X-PUBLISHED-TTL:PT1H
BEGIN:VTIMEZONE
TZID:Australia/Melbourne
BEGIN:STANDARD
TZOFFSETFROM:+1100
TZOFFSETTO:+1000
TZNAME:AEST
DTSTART:20240406T160000
END:STANDARD
BEGIN:DAYLIGHT
TZOFFSETFROM:+1000
TZOFFSETTO:+1100
TZNAME:AEDT
DTSTART:20241005T160000
END:DAYLIGHT
BEGIN:STANDARD
TZOFFSETFROM:+1100
TZOFFSETTO:+1000
TZNAME:AEST
DTSTART:20250405T160000
END:STANDARD
BEGIN:DAYLIGHT
TZOFFSETFROM:+1000
TZOFFSETTO:+1100
TZNAME:AEDT
DTSTART:20251004T160000
END:DAYLIGHT
BEGIN:STANDARD
TZOFFSETFROM:+1100
TZOFFSETTO:+1000
TZNAME:AEST
DTSTART:20260404T160000
END:STANDARD
BEGIN:DAYLIGHT
TZOFFSETFROM:+1000
TZOFFSETTO:+1100
TZNAME:AEDT
DTSTART:20261003T160000
END:DAYLIGHT
END:VTIMEZONE
BEGIN:VEVENT
DTSTART;TZID=Australia/Melbourne:20251013T190000
DTEND;TZID=Australia/Melbourne:20251124T210000
DTSTAMP:20260424T065925
CREATED:20250925T041235Z
LAST-MODIFIED:20250925T041319Z
UID:10000355-1760382000-1764018000@victas.uca.org.au
SUMMARY:Exploring Preaching
DESCRIPTION:Exploring Preaching in the UCA \nAn online course for anyone who wants to learn how to Preach in the UCA. \nExploring Preaching in the UCA has been created around the Preaching Competencies from the “Assembly Standards and Competencies for the Formation and Education for the Specified Ministry of Lay Preacher”. So\, those training for the ministry of Lay Preaching\, and those needing to undertake training for the Preaching Competencies for Pastors (as these are the same)\, can be assured they are receiving training to help them meet these competencies. \nHowever\, Exploring Preaching in the UCA is also a great course for: \n\npeople undertaking a Period of Discernment\nLay Preachers looking for some continuing education.\n\nExploring Preaching in the UCA covers: \n\nwhere preaching ‘fits’ in Worship\nethical preaching\npractical preaching skills\nexegesis\nplanning to preach\n\nExploring Preaching in the UCA is offered through access to online learning materials and a Zoom class. \nInternet not great at home? The unit is also designed so that the base material can be downloaded and saved to your computer. Others interested in learning in your Presbytery? Why don’t you learn together – and download your learning material to work on at home. \n  \nTo register\, click here
URL:https://victas.uca.org.au/event/exploring-preaching/
LOCATION:Online
ATTACH;FMTTYPE=image/png:https://victas.uca.org.au/wp-content/uploads/2025/09/fish-tile.png
ORGANIZER;CN="Mel Perkins":MAILTO:mel.perkins@victas.uca.org.au
GEO:-37.8136276;144.9630576
END:VEVENT
END:VCALENDAR