BEGIN:VCALENDAR
VERSION:2.0
PRODID:-//Uniting Church in Australia. Synod of Victoria and Tasmania - ECPv6.15.17.1//NONSGML v1.0//EN
CALSCALE:GREGORIAN
METHOD:PUBLISH
X-WR-CALNAME:Uniting Church in Australia. Synod of Victoria and Tasmania
X-ORIGINAL-URL:https://victas.uca.org.au
X-WR-CALDESC:Events for Uniting Church in Australia. Synod of Victoria and Tasmania
REFRESH-INTERVAL;VALUE=DURATION:PT1H
X-Robots-Tag:noindex
X-PUBLISHED-TTL:PT1H
BEGIN:VTIMEZONE
TZID:Australia/Melbourne
BEGIN:STANDARD
TZOFFSETFROM:+1100
TZOFFSETTO:+1000
TZNAME:AEST
DTSTART:20220402T160000
END:STANDARD
BEGIN:DAYLIGHT
TZOFFSETFROM:+1000
TZOFFSETTO:+1100
TZNAME:AEDT
DTSTART:20221001T160000
END:DAYLIGHT
BEGIN:STANDARD
TZOFFSETFROM:+1100
TZOFFSETTO:+1000
TZNAME:AEST
DTSTART:20230401T160000
END:STANDARD
BEGIN:DAYLIGHT
TZOFFSETFROM:+1000
TZOFFSETTO:+1100
TZNAME:AEDT
DTSTART:20230930T160000
END:DAYLIGHT
BEGIN:STANDARD
TZOFFSETFROM:+1100
TZOFFSETTO:+1000
TZNAME:AEST
DTSTART:20240406T160000
END:STANDARD
BEGIN:DAYLIGHT
TZOFFSETFROM:+1000
TZOFFSETTO:+1100
TZNAME:AEDT
DTSTART:20241005T160000
END:DAYLIGHT
END:VTIMEZONE
BEGIN:VEVENT
DTSTART;TZID=Australia/Melbourne:20230307T163000
DTEND;TZID=Australia/Melbourne:20230307T173000
DTSTAMP:20260423T142751
CREATED:20230208T234709Z
LAST-MODIFIED:20240605T040738Z
UID:10000272-1678206600-1678210200@victas.uca.org.au
SUMMARY:eLM Induction and Commissioning Service
DESCRIPTION:You are invited to the service of worship and celebration to mark a number of inductions and commissioning of new members of the eLM team. \n  \nThe service will be for the induction of: \n\nRev Duncan Macleod as Executive Officer\, equipping Leadership for Mission\nRev Lauren Mosso as Chaplaincy Coordinator\n\n  \nAnd the commissioning of: \n\nKelly Skilton into Younger Generations – Digital and New Communities\nJulie Perrin as Royal Melbourne Hospital Chaplain\nSiobhan O’Shaughnessy as Prison Chaplain (Loddon Prison Precinct\, Tarrengower Prison and the Dame Phyllis Frost Centre)\n\n  \nDate: Tuesday 7th March 2023 \nTime: 4:30pm (followed by refreshments at approximately 5:30pm) \nLocation: In person\, Yuma Auditorium at The Centre for Theology and Ministry (Parkville) and online via Zoom \n  \nTo register\, click here \n*In person registrations close strictly on Monday 27th February\, online registrations close Monday 6th March. Online attendees will receive Zoom details via email on the morning of the event. \n 
URL:https://victas.uca.org.au/event/elm-induction-and-commissioning-service/
LOCATION:Centre for Theology & Ministry\, 29 College Crescent\, Parkville\, Victoria\, 3052\, Australia
ATTACH;FMTTYPE=image/jpeg:https://victas.uca.org.au/wp-content/uploads/2023/02/230208-Induction-1000x500-banner.jpg
ORGANIZER;CN="Adrian Pyle":MAILTO:adrian.pyle@victas.uca.org.au
GEO:-37.7922071;144.9619031
X-APPLE-STRUCTURED-LOCATION;VALUE=URI;X-ADDRESS=Centre for Theology & Ministry 29 College Crescent Parkville Victoria 3052 Australia;X-APPLE-RADIUS=500;X-TITLE=29 College Crescent:geo:144.9619031,-37.7922071
END:VEVENT
END:VCALENDAR