BEGIN:VCALENDAR
VERSION:2.0
PRODID:-//Uniting Church in Australia. Synod of Victoria and Tasmania - ECPv6.15.17.1//NONSGML v1.0//EN
CALSCALE:GREGORIAN
METHOD:PUBLISH
X-WR-CALNAME:Uniting Church in Australia. Synod of Victoria and Tasmania
X-ORIGINAL-URL:https://victas.uca.org.au
X-WR-CALDESC:Events for Uniting Church in Australia. Synod of Victoria and Tasmania
REFRESH-INTERVAL;VALUE=DURATION:PT1H
X-Robots-Tag:noindex
X-PUBLISHED-TTL:PT1H
BEGIN:VTIMEZONE
TZID:Australia/Melbourne
BEGIN:STANDARD
TZOFFSETFROM:+1100
TZOFFSETTO:+1000
TZNAME:AEST
DTSTART:20220402T160000
END:STANDARD
BEGIN:DAYLIGHT
TZOFFSETFROM:+1000
TZOFFSETTO:+1100
TZNAME:AEDT
DTSTART:20221001T160000
END:DAYLIGHT
BEGIN:STANDARD
TZOFFSETFROM:+1100
TZOFFSETTO:+1000
TZNAME:AEST
DTSTART:20230401T160000
END:STANDARD
BEGIN:DAYLIGHT
TZOFFSETFROM:+1000
TZOFFSETTO:+1100
TZNAME:AEDT
DTSTART:20230930T160000
END:DAYLIGHT
BEGIN:STANDARD
TZOFFSETFROM:+1100
TZOFFSETTO:+1000
TZNAME:AEST
DTSTART:20240406T160000
END:STANDARD
BEGIN:DAYLIGHT
TZOFFSETFROM:+1000
TZOFFSETTO:+1100
TZNAME:AEDT
DTSTART:20241005T160000
END:DAYLIGHT
END:VTIMEZONE
BEGIN:VEVENT
DTSTART;TZID=Australia/Melbourne:20230731T153000
DTEND;TZID=Australia/Melbourne:20230731T170000
DTSTAMP:20260423T124846
CREATED:20230504T003834Z
LAST-MODIFIED:20240605T043528Z
UID:10000282-1690817400-1690822800@victas.uca.org.au
SUMMARY:For I Was Hungry - book launch
DESCRIPTION:You are warmly invited to join us on Monday 31 July when the Hon. Bronwyn Pike\, Chair of Uniting\, will launch For I Was Hungry: Congregations and Church Agencies in Relationship\, edited by John G. Flett\, Professor of Contextual Theology at Pilgrim Theological College\, University of Divinity. Copies will be available for purchase from Uniting Academic Press. \nThis is a significant book for the on-going life and structure of the Uniting Church and brings together an distinguished team of contributors. \nThe Basis of Union – the foundational document of the Uniting Church in Australia – clearly prioritises the congregation as the ’embodiment of the church’ yet also assumes the need for agencies to carry out the work and mission of the church beyond congregations. When the Basis was being devised\, congregations were strong and vibrant\, the voice of the church carried authority in the community\, senior staff in the church’s agencies – education\, finance\, hospitals and other caring establishments – were assumed to share and promote the faith convictions of the church. \nTimes have changed; and this collection of informed essays explores the consequences of changes in church and society\, the growing dependence of agencies on government funding\, issues of compliance\, competencies\, responsibilities. The key concern of For I was hungry is a division between congregations and agencies – both imposed and perceived – and asks sometimes uncomfortable questions about mission and witness\, ownership and connections\, oversight and responsibility\, secularisation and the serious decline in local membership. \nAll welcome but registration essential for catering please. \nTime: 3.30 – 5.00pm \nDate: Monday 31 July 2023 \nLocation: Yagilaith\, Pilgrim Theological College\, 29 College Crescent\, Parkville VIC 3052 and online via Zoom (Zoom link will be emailed at 1pm on the day of the event) \n  \nTo register\, click here
URL:https://victas.uca.org.au/event/for-i-was-hungry-book-launch/
LOCATION:Centre for Theology & Ministry\, 29 College Crescent\, Parkville\, Victoria\, 3052\, Australia
ATTACH;FMTTYPE=image/jpeg:https://victas.uca.org.au/wp-content/uploads/2023/05/230503-eLM-MFA-Book-Launch-Banner-for-if-I-was-Hungry.jpg
GEO:-37.7922071;144.9619031
X-APPLE-STRUCTURED-LOCATION;VALUE=URI;X-ADDRESS=Centre for Theology & Ministry 29 College Crescent Parkville Victoria 3052 Australia;X-APPLE-RADIUS=500;X-TITLE=29 College Crescent:geo:144.9619031,-37.7922071
END:VEVENT
END:VCALENDAR