BEGIN:VCALENDAR
VERSION:2.0
PRODID:-//Uniting Church in Australia. Synod of Victoria and Tasmania - ECPv6.15.17.1//NONSGML v1.0//EN
CALSCALE:GREGORIAN
METHOD:PUBLISH
X-WR-CALNAME:Uniting Church in Australia. Synod of Victoria and Tasmania
X-ORIGINAL-URL:https://victas.uca.org.au
X-WR-CALDESC:Events for Uniting Church in Australia. Synod of Victoria and Tasmania
REFRESH-INTERVAL;VALUE=DURATION:PT1H
X-Robots-Tag:noindex
X-PUBLISHED-TTL:PT1H
BEGIN:VTIMEZONE
TZID:Australia/Melbourne
BEGIN:STANDARD
TZOFFSETFROM:+1100
TZOFFSETTO:+1000
TZNAME:AEST
DTSTART:20190406T160000
END:STANDARD
BEGIN:DAYLIGHT
TZOFFSETFROM:+1000
TZOFFSETTO:+1100
TZNAME:AEDT
DTSTART:20191005T160000
END:DAYLIGHT
BEGIN:STANDARD
TZOFFSETFROM:+1100
TZOFFSETTO:+1000
TZNAME:AEST
DTSTART:20200404T160000
END:STANDARD
BEGIN:DAYLIGHT
TZOFFSETFROM:+1000
TZOFFSETTO:+1100
TZNAME:AEDT
DTSTART:20201003T160000
END:DAYLIGHT
BEGIN:STANDARD
TZOFFSETFROM:+1100
TZOFFSETTO:+1000
TZNAME:AEST
DTSTART:20210403T160000
END:STANDARD
BEGIN:DAYLIGHT
TZOFFSETFROM:+1000
TZOFFSETTO:+1100
TZNAME:AEDT
DTSTART:20211002T160000
END:DAYLIGHT
END:VTIMEZONE
BEGIN:VEVENT
DTSTART;TZID=Australia/Melbourne:20200902T093000
DTEND;TZID=Australia/Melbourne:20200916T123000
DTSTAMP:20260423T140320
CREATED:20200811T231849Z
LAST-MODIFIED:20240605T031312Z
UID:10000143-1599039000-1600259400@victas.uca.org.au
SUMMARY:Inclusive workshop - enabling cultural gifts
DESCRIPTION:This workshop organised in partnership with the Port Philip West Presbytery will explore where and how we can enable cultural gifts in our communities of faith to make worship meaningful and fuller \nDue to the Covid-19 pandemic the Church is exploring new ways of being God’s life-giving community. As enablers of mission and ministry\, lay leaders and ministers are discovering gifts in their community previously hidden\, and are developing new ways of worshipping\, witnessing and serving.  \nUnexpected\, difficult situations nudge us to seek resources beyond our normal boundaries; to learn from one another\, and from those who might have lived through something similar. They also can prod us to look for hidden and untapped gifts from within. \nThis workshop will explore where and how we can find those hidden treasures in our midst and outside to make worship joyful\, meaningful and fuller by engaging with the cultural opportunities and gifts in our congregations and communities. \nThe workshop will be offered over two days with 2 weeks apart; Wednesday 2nd September 2020 – 9.30am – 1pm and Wednesday 16th September 2020 – 10am -12.30pm. \nThe first day will be presentations\, discussions and explorations. Participants will be given tools to craft an intercultural worship for their congregation to offer in one or both of the following Sundays. \nThe second day participants will bring experience and feedback from the worship they have offered to share\, discuss and explore further resources. \nEach ministry leader is encouraged to bring one or more lay leaders from their congregation. \n **Due to the present pandemic\, the workshop will be offered via Zoom. The program and Zoom link will be sent to participants on registration. \nDates: 2nd September and 16th September 2020 \nTicket: $25 (both days) \n*Ticket cost includes workshop access for both days and materials \nTo register: https://www.eventbrite.com.au/e/inclusive-workshop-enabling-cultural-gifts-tickets-115150391922 \nContacts:  \nDevanandan Anandarajan – 0414721015 (devanandan.anandarajan@victas.uca.org.au) \nLinley Liersch – 0408169882 (linley.liersch@ppw.victas.uca.org.au)
URL:https://victas.uca.org.au/event/inclusive-workshop-enabling-cultural-gifts/
LOCATION:Online
ATTACH;FMTTYPE=image/jpeg:https://victas.uca.org.au/wp-content/uploads/2020/08/multicultural-hands-around-Bible-scaled.jpg
ORGANIZER;CN="Dev Anandarajan":MAILTO:Devanandan.Anandarajan@victas.uca.org.au
GEO:-37.8136276;144.9630576
END:VEVENT
END:VCALENDAR