BEGIN:VCALENDAR
VERSION:2.0
PRODID:-//Uniting Church in Australia. Synod of Victoria and Tasmania - ECPv6.15.17.1//NONSGML v1.0//EN
CALSCALE:GREGORIAN
METHOD:PUBLISH
X-ORIGINAL-URL:https://victas.uca.org.au
X-WR-CALDESC:Events for Uniting Church in Australia. Synod of Victoria and Tasmania
REFRESH-INTERVAL;VALUE=DURATION:PT1H
X-Robots-Tag:noindex
X-PUBLISHED-TTL:PT1H
BEGIN:VTIMEZONE
TZID:Australia/Melbourne
BEGIN:STANDARD
TZOFFSETFROM:+1100
TZOFFSETTO:+1000
TZNAME:AEST
DTSTART:20200404T160000
END:STANDARD
BEGIN:DAYLIGHT
TZOFFSETFROM:+1000
TZOFFSETTO:+1100
TZNAME:AEDT
DTSTART:20201003T160000
END:DAYLIGHT
BEGIN:STANDARD
TZOFFSETFROM:+1100
TZOFFSETTO:+1000
TZNAME:AEST
DTSTART:20210403T160000
END:STANDARD
BEGIN:DAYLIGHT
TZOFFSETFROM:+1000
TZOFFSETTO:+1100
TZNAME:AEDT
DTSTART:20211002T160000
END:DAYLIGHT
BEGIN:STANDARD
TZOFFSETFROM:+1100
TZOFFSETTO:+1000
TZNAME:AEST
DTSTART:20220402T160000
END:STANDARD
BEGIN:DAYLIGHT
TZOFFSETFROM:+1000
TZOFFSETTO:+1100
TZNAME:AEDT
DTSTART:20221001T160000
END:DAYLIGHT
BEGIN:STANDARD
TZOFFSETFROM:+1100
TZOFFSETTO:+1000
TZNAME:AEST
DTSTART:20230401T160000
END:STANDARD
BEGIN:DAYLIGHT
TZOFFSETFROM:+1000
TZOFFSETTO:+1100
TZNAME:AEDT
DTSTART:20230930T160000
END:DAYLIGHT
BEGIN:STANDARD
TZOFFSETFROM:+1100
TZOFFSETTO:+1000
TZNAME:AEST
DTSTART:20240406T160000
END:STANDARD
BEGIN:DAYLIGHT
TZOFFSETFROM:+1000
TZOFFSETTO:+1100
TZNAME:AEDT
DTSTART:20241005T160000
END:DAYLIGHT
BEGIN:STANDARD
TZOFFSETFROM:+1100
TZOFFSETTO:+1000
TZNAME:AEST
DTSTART:20250405T160000
END:STANDARD
BEGIN:DAYLIGHT
TZOFFSETFROM:+1000
TZOFFSETTO:+1100
TZNAME:AEDT
DTSTART:20251004T160000
END:DAYLIGHT
BEGIN:STANDARD
TZOFFSETFROM:+1100
TZOFFSETTO:+1000
TZNAME:AEST
DTSTART:20260404T160000
END:STANDARD
BEGIN:DAYLIGHT
TZOFFSETFROM:+1000
TZOFFSETTO:+1100
TZNAME:AEDT
DTSTART:20261003T160000
END:DAYLIGHT
END:VTIMEZONE
BEGIN:VEVENT
DTSTART;TZID=Australia/Melbourne:20251013T190000
DTEND;TZID=Australia/Melbourne:20251124T210000
DTSTAMP:20260423T055039
CREATED:20250925T041235Z
LAST-MODIFIED:20250925T041319Z
UID:10000355-1760382000-1764018000@victas.uca.org.au
SUMMARY:Exploring Preaching
DESCRIPTION:Exploring Preaching in the UCA \nAn online course for anyone who wants to learn how to Preach in the UCA. \nExploring Preaching in the UCA has been created around the Preaching Competencies from the “Assembly Standards and Competencies for the Formation and Education for the Specified Ministry of Lay Preacher”. So\, those training for the ministry of Lay Preaching\, and those needing to undertake training for the Preaching Competencies for Pastors (as these are the same)\, can be assured they are receiving training to help them meet these competencies. \nHowever\, Exploring Preaching in the UCA is also a great course for: \n\npeople undertaking a Period of Discernment\nLay Preachers looking for some continuing education.\n\nExploring Preaching in the UCA covers: \n\nwhere preaching ‘fits’ in Worship\nethical preaching\npractical preaching skills\nexegesis\nplanning to preach\n\nExploring Preaching in the UCA is offered through access to online learning materials and a Zoom class. \nInternet not great at home? The unit is also designed so that the base material can be downloaded and saved to your computer. Others interested in learning in your Presbytery? Why don’t you learn together – and download your learning material to work on at home. \n  \nTo register\, click here
URL:https://victas.uca.org.au/event/exploring-preaching/
LOCATION:Online
ATTACH;FMTTYPE=image/png:https://victas.uca.org.au/wp-content/uploads/2025/09/fish-tile.png
ORGANIZER;CN="Mel Perkins":MAILTO:mel.perkins@victas.uca.org.au
GEO:-37.8136276;144.9630576
END:VEVENT
BEGIN:VEVENT
DTSTART;TZID=Australia/Melbourne:20241021T190000
DTEND;TZID=Australia/Melbourne:20241125T210000
DTSTAMP:20260423T055039
CREATED:20240820T013942Z
LAST-MODIFIED:20241111T030558Z
UID:10000325-1729537200-1732568400@victas.uca.org.au
SUMMARY:Exploring Worship in the UCA
DESCRIPTION:An online course for anyone who wants to know more about Worship in the UCA. \nExploring Worship in the UCA has been created around the Worship Competencies from the “Assembly Standards and Competencies for the Formation and Education for the Specified Ministry of Lay Preacher”. So\, those training for the ministry of Lay Preaching\, and those needing to undertake training for the Worship Competencies for Pastors (as these are the same)\, can be assured they are receiving training to help them meet these competencies. \nHowever\, Exploring Worship in the UCA is also a great course for: \n\nWorship leaders\npeople undertaking a Period of Discernment\nLay Preachers looking for some continuing education\npeople new to the UCA who would love to know more about how Worship happens in the UCA\, and\nanyone just generally interested in knowing more about worship in the UCA.\n\n  \nExploring Worship in the UCA covers: \n\nwhat the Bible and the UCA say about worship\nthe UCA of ‘doing Worship’ – “Ordered Liberty”\ninclusive worship\ncreative worship\npractical Worship skills\nplanning Worship\nleading Worship\nethical Worship leadership (briefly\, this is covered more in the unit on the Code of Ethics for Lay Preachers)\n\nDates (Monday night): \n21 October \n28 October \n4 November \n11 November \n18 November \n25 November \n  \nTime (all on Zoom): 7-9pm \nCost: $30 \nTo register\, click here \n*Registrations close at 11:30pm (AEST) Monday 14th October 2024 \n  \nIn the site Uniting Church in Australia. Synod of Victoria and Tasmania this is a Picture of 240816 elm ef&a exploring uca flyer in the page Exploring Worship in the UCA
URL:https://victas.uca.org.au/event/exploring-worship-in-the-uca/
LOCATION:Online\, Australia
ATTACH;FMTTYPE=image/png:https://victas.uca.org.au/wp-content/uploads/2024/08/240816-eLM-EFA-Exploring-UCA-Banner.png
ORGANIZER;CN="Mel Perkins":MAILTO:mel.perkins@victas.uca.org.au
GEO:-37.4713077;144.7851531
END:VEVENT
BEGIN:VEVENT
DTSTART;TZID=Australia/Melbourne:20230330T183000
DTEND;TZID=Australia/Melbourne:20230622T203000
DTSTAMP:20260423T055039
CREATED:20230206T014337Z
LAST-MODIFIED:20240605T040734Z
UID:10000271-1680201000-1687465800@victas.uca.org.au
SUMMARY:Understanding the UCA
DESCRIPTION:An eLM unit for wishing to understand more about the Uniting Church \n– and for those needing to meet the Core Competency “Work within the doctrine\, ethos and polity of the Uniting Church” for Ministry of Pastor roles and Ministry of Lay Preacher \n  \n\nan online self-directed study unit with assessment and 4 group tutorials\noffered by Equipping Leadership for Mission (eLM)\nbeginning on 30 March 2023\, participants will have 4 months to undertake the study\nall group tutorials and assessment are compulsory for those who are undertaking the unit for competency reasons\nthose who successfully complete the unit (including tutorials and assessment) will receive a Certificate of Satisfactory Completion\nCost $40\n\n  \nTutorial dates (all Zoom): \nIntroduction and Assessment – Thursday\, 30 March\, 6:30-8:30pm \nHistory and Theology of the UCA – Thursday\, 27 April\, 6:30-8:30pm \nLife and Witness\, Councils and Ministries – Thursday\, 18 May\, 6:30-8:30pm \nWalking with First People\, Intercultural relatedness – Thursday\, 22 June\, 6:30-8:30pm \n  \nTo register\, click here \nRegistrations close strictly on Friday 25th March. \nFor further information contact: \nMel Perkins\nLay Leadership Development Coordinator\nmel.perkins@victas.uca.org.au \n 
URL:https://victas.uca.org.au/event/understanding-the-uca-3/
LOCATION:Online
ATTACH;FMTTYPE=image/jpeg:https://victas.uca.org.au/wp-content/uploads/2023/02/Understanding-the-UCA-image-2.jpg
ORGANIZER;CN="Mel Perkins":MAILTO:mel.perkins@victas.uca.org.au
GEO:-37.8136276;144.9630576
END:VEVENT
BEGIN:VEVENT
DTSTART;TZID=Australia/Melbourne:20230801T190000
DTEND;TZID=Australia/Melbourne:20230912T210000
DTSTAMP:20260423T055039
CREATED:20221206T224228Z
LAST-MODIFIED:20240605T035845Z
UID:10000267-1690916400-1694552400@victas.uca.org.au
SUMMARY:Worship and Preaching Online Training 2023 - PREACHING
DESCRIPTION:The world has and is changing and we are seeking new ways of leadership and being in church\, including worship and proclaiming God’s Word. \n  \nJoin us for multiple options of engaging with 6 Worship Units and 6 Preaching Units. \n  \nParticipants can choose their level of input and connection. Have a conversation with your faith community\, congregation or Presbytery about what would would be good for you and them. \n  \nUnits are engaging and creative. Assessment is both theoretical and practical. \n  \nAccess 3 points of training: \n\nOnline delivery across the Synod – 2 hours per week\n\nJoin others in Zoom delivery of Worship and Preaching workshops\, combining a tutorial based on the online units\, and input from a variety of church leaders. \n\nAccess to online Worship and Preaching units\n\nAccess online units written around the Assembly W&P competencies for Lay Preachers and Ministry of Pastor. \n\nLocal assessment\n\nFor those who opt for assessment\, this will occur within their Congregation/Faith Community/Hub or Presbytery. \n  \nTo register\, click here \nRegistrations close on Tuesday 25 July \n 
URL:https://victas.uca.org.au/event/worship-and-preaching-online-training-2023-preaching/
LOCATION:Online
ATTACH;FMTTYPE=image/jpeg:https://victas.uca.org.au/wp-content/uploads/2022/12/Preaching-Banner.jpg
ORGANIZER;CN="Mel Perkins":MAILTO:mel.perkins@victas.uca.org.au
GEO:-37.8136276;144.9630576
END:VEVENT
BEGIN:VEVENT
DTSTART;TZID=Australia/Melbourne:20221103T183000
DTEND;TZID=Australia/Melbourne:20230228T203000
DTSTAMP:20260423T055039
CREATED:20220801T224434Z
LAST-MODIFIED:20240605T035101Z
UID:10000257-1667500200-1677616200@victas.uca.org.au
SUMMARY:Understanding the UCA
DESCRIPTION:An eLM unit for wishing to understand more about the Uniting Church \n– and for those needing to meet the Core Competency “Work within the doctrine\, ethos and polity of the Uniting Church” for Ministry of Pastor roles and Ministry of Lay Preacher \n  \n\nan online self-directed study unit with assessment and 4 group tutorials\noffered by Equipping Leadership for Mission (eLM)\nbeginning on 1 November 2022\, participants will have 4 months to undertake the study\nall group tutorials and assessment are compulsory for those who are undertaking the unit for competency reasons\nthose who successfully complete the unit (including tutorials and assessment) will receive a Certificate of Satisfactory Completion\nCost $40\n\n[From 2023\, the unit will be offered once or twice a year and participants will have 3 months to undertake and complete the unit.] \n  \nTutorial dates (all Zoom): \nIntroduction and Assessment – Thursday\, 3 November\, 6:30-8:30pm \nHistory and Theology of the UCA – Wednesday\, 23 November\, 6:30-8:30pm \nLife and Witness\, Councils and Ministries – Wednesday\, 14 December\, 6:30-8:30pm \nWalking with First People\, Intercultural relatedness – Wednesday\, 8 February\, 6:30-8:30pm \n  \nFor further information contact: \nMel Perkins\nLay Leadership Development Coordinator\nmel.perkins@victas.uca.org.au \n  \nTo register\, click here \nRegistrations close strictly on Friday 28th October 2022 \n 
URL:https://victas.uca.org.au/event/understanding-the-uca-2/
LOCATION:Online
CATEGORIES:Featured
ATTACH;FMTTYPE=image/jpeg:https://victas.uca.org.au/wp-content/uploads/2022/08/Understanding-the-UCA-image-2.jpg
ORGANIZER;CN="Mel Perkins":MAILTO:mel.perkins@victas.uca.org.au
GEO:-37.8136276;144.9630576
END:VEVENT
BEGIN:VEVENT
DTSTART;TZID=Australia/Melbourne:20220806T133000
DTEND;TZID=Australia/Melbourne:20220806T163000
DTSTAMP:20260423T055039
CREATED:20220714T020627Z
LAST-MODIFIED:20240605T034415Z
UID:10000255-1659792600-1659803400@victas.uca.org.au
SUMMARY:Preaching and Theology workshop
DESCRIPTION:Preaching and Theology workshop – with Rev Dr Geoff Thompson & Rev Rachel Kronberger \n  \nIn this workshop\, Geoff and Rachel will explore the connections between Preaching and Theology. \n  \nWhen: 6 August \nTime: 1:30pm-4:30pm \nWhere: Zoom (link will be sent on the morning of the event) \nCost: $10 \n  \nTo register\, click here
URL:https://victas.uca.org.au/event/preaching-and-theology-workshop/
LOCATION:Online
ATTACH;FMTTYPE=image/jpeg:https://victas.uca.org.au/wp-content/uploads/2022/07/fish-g86beb242d_1920.jpg
ORGANIZER;CN="Mel Perkins":MAILTO:mel.perkins@victas.uca.org.au
GEO:-37.8136276;144.9630576
END:VEVENT
BEGIN:VEVENT
DTSTART;TZID=Australia/Melbourne:20220601T190000
DTEND;TZID=Australia/Melbourne:20220601T210000
DTSTAMP:20260423T055039
CREATED:20220419T023236Z
LAST-MODIFIED:20240605T034157Z
UID:10000250-1654110000-1654117200@victas.uca.org.au
SUMMARY:Preaching as story
DESCRIPTION:Preachers as Midwives of the Story \n  \nStory has its own way of bringing to life God’s work within community and ourselves. A story without words can speak deeper than a story with words. We don’t just observe or hear a story\, we are always receivers of story. And sometimes we are the storyteller. . . . .even when we are preaching. In this workshop\, participants are invited to come into story and possibility. \nDenise best describes herself as a Mother\, a Minister and a Photographer and sometimes all three at once. Drawing on deep listening to the world and creation\, sharing its story through images\, story\, and relationship\, Denise allows room for the other to find their point of connection with God. Once a nurse herself\, Denise invites people to think about how they ‘midwife’ their contribution to God’s big story at work in the world. \n  \nPresenter: Denise Savage \nWhen: Wednesday June 1\, 2022 7 – 9pm \nWhere: Online \nCost: $10 \n  \nTo register\, click here \n  \nFor more information\, please contact Mel Perkins mel.perkins@victas.uca.org.au \n 
URL:https://victas.uca.org.au/event/preaching-as-story/
LOCATION:Online
ATTACH;FMTTYPE=image/jpeg:https://victas.uca.org.au/wp-content/uploads/2022/04/JunePreaching1000x500px-banner.jpg
ORGANIZER;CN="Mel Perkins":MAILTO:mel.perkins@victas.uca.org.au
GEO:-37.8136276;144.9630576
END:VEVENT
BEGIN:VEVENT
DTSTART;TZID=Australia/Melbourne:20220821T133000
DTEND;TZID=Australia/Melbourne:20220821T163000
DTSTAMP:20260423T055039
CREATED:20220419T022501Z
LAST-MODIFIED:20240605T034243Z
UID:10000249-1661088600-1661099400@victas.uca.org.au
SUMMARY:Visual Exegesis
DESCRIPTION:How visual mediums inform and converse with written Scripture. \n  \nIn this workshop\, Sandy will invite participants to explore how visual mediums can be used in\, and enhance\, worship and preaching. Participants will have opportunities to work with images and learn tools to exegete visual mediums. Participants are encouraged to come to this workshop with their curiosity and sense of wonder. \n  \nPresenter: Sandy Brodine \nWhen: Sunday August 21\, 1.30 – 4.30pm \nWhere: Online via Zoom (link will be emailed on the morning of the event) \nCost: $10 \nRSVP: Wednesday August 17\, 2022 – 3pm \n  \nTo register\, click here \n  \nFor more information\, please contact Mel Perkins\, mel.perkins@victas.uca.org.au \n 
URL:https://victas.uca.org.au/event/visual-exegesis/
LOCATION:Centre for Theology & Ministry\, 29 College Crescent\, Parkville\, Victoria\, 3052\, Australia
ATTACH;FMTTYPE=image/jpeg:https://victas.uca.org.au/wp-content/uploads/2022/04/VisExegis1000x500px-banner-new-date-1.jpg
ORGANIZER;CN="Mel Perkins":MAILTO:mel.perkins@victas.uca.org.au
GEO:-37.7922071;144.9619031
X-APPLE-STRUCTURED-LOCATION;VALUE=URI;X-ADDRESS=Centre for Theology & Ministry 29 College Crescent Parkville Victoria 3052 Australia;X-APPLE-RADIUS=500;X-TITLE=29 College Crescent:geo:144.9619031,-37.7922071
END:VEVENT
BEGIN:VEVENT
DTSTART;TZID=Australia/Melbourne:20220831T183000
DTEND;TZID=Australia/Melbourne:20220914T210000
DTSTAMP:20260423T055039
CREATED:20211222T014326Z
LAST-MODIFIED:20240605T033940Z
UID:10000174-1661970600-1663189200@victas.uca.org.au
SUMMARY:Facing Fears in Pastoral Encounters
DESCRIPTION:Engaging in pastoral care can be a scary place – for both the one being cared for and the carer! Many carers experience fear in pastoral encounters\, with some thinking they are the only ones who do so. Come along to this workshop to explore what it means to be honest about facing fear as a carer in pastoral encounters. \n  \nThis 2-part online training through Zoom is for anyone offering pastoral care. \n  \nTo register\, click here \n 
URL:https://victas.uca.org.au/event/facing-fears-in-pastoral-encounters/
LOCATION:Online
ATTACH;FMTTYPE=image/jpeg:https://victas.uca.org.au/wp-content/uploads/2021/12/Face-Fear-Image.jpg
ORGANIZER;CN="Mel Perkins":MAILTO:mel.perkins@victas.uca.org.au
GEO:-37.8136276;144.9630576
END:VEVENT
BEGIN:VEVENT
DTSTART;TZID=Australia/Melbourne:20220321T183000
DTEND;TZID=Australia/Melbourne:20220328T210000
DTSTAMP:20260423T055039
CREATED:20211222T013129Z
LAST-MODIFIED:20240605T033939Z
UID:10000171-1647887400-1648501200@victas.uca.org.au
SUMMARY:**POSTPONED: Ministering in disaster affected communities - online course
DESCRIPTION:**IMPORTANT: Unfortunately the decision has been made to postpone this event. A new date will be announced soon. \n  \nThis 2-part training offers good ideas (practical and achievable) for before\, during and after disasters. This is suitable for anyone – lay and ordained – who is part of a church community or faith community\, and also for those in Synod and Presbytery roles. \n  \nThe course will be delivered both online and in person \n  \nZoom training (2 nights): Part 1 – Before and during a disaster – Monday 21st March; Part 2 – The long road to recovery – Monday 28th March \n  \nFace-to-face training (all in one day): Part 1 – Before and during a disaster; Part 2 – The long road to recovery – Saturday 21st May \nThis page is for the online version only. To register to attend in person\, please visit: \nhttps://victas.uca.org.au/event/ministering-in-disaster-affected-communities-ftf-course/ \n  \nTo register\, click here \n 
URL:https://victas.uca.org.au/event/ministering-in-disaster-affected-communities-online-course/
LOCATION:Online
ATTACH;FMTTYPE=image/jpeg:https://victas.uca.org.au/wp-content/uploads/2021/12/Ministering-Disaster-Image.jpg
ORGANIZER;CN="Mel Perkins":MAILTO:mel.perkins@victas.uca.org.au
GEO:-37.8136276;144.9630576
END:VEVENT
BEGIN:VEVENT
DTSTART;TZID=Australia/Melbourne:20220305T090000
DTEND;TZID=Australia/Melbourne:20220305T123000
DTSTAMP:20260423T055039
CREATED:20211214T040352Z
LAST-MODIFIED:20240605T033839Z
UID:10000162-1646470800-1646483400@victas.uca.org.au
SUMMARY:**CANCELLED - Discernment Day 2022
DESCRIPTION:**This event has unfortunately been cancelled. \n  \nHow are your gifts being used in God’s mission to transform the world? What on Earth does God want you to do with your life? How would you even know? And what has the Uniting Church got to do with any of that? \nJoin Rev Dr Sean Winter (Head of Pilgrim Theological College) and Mel Perkins (eLM Lay Leadership Development Coordinator). \nSurvey the broad terrain of discipleship and ministry in the Uniting Church. Unwrap the gifts and ministries of the whole people of God. Unearth discernment\, vocation\, formation and map the questions that arise. \n  \nThis workshop is being offered in person or via Zoom. \n  \nTo register\, click here \nRegistrations close on Sunday 27th February. \n 
URL:https://victas.uca.org.au/event/discernment-day-2022/
LOCATION:Centre for Theology & Ministry\, 29 College Crescent\, Parkville\, Victoria\, 3052\, Australia
ATTACH;FMTTYPE=image/png:https://victas.uca.org.au/wp-content/uploads/2021/12/1000x500px-Worshop-banner.png
ORGANIZER;CN="Mel Perkins":MAILTO:mel.perkins@victas.uca.org.au
GEO:-37.7922071;144.9619031
X-APPLE-STRUCTURED-LOCATION;VALUE=URI;X-ADDRESS=Centre for Theology & Ministry 29 College Crescent Parkville Victoria 3052 Australia;X-APPLE-RADIUS=500;X-TITLE=29 College Crescent:geo:144.9619031,-37.7922071
END:VEVENT
BEGIN:VEVENT
DTSTART;TZID=Australia/Melbourne:20211029T093000
DTEND;TZID=Australia/Melbourne:20211204T210000
DTSTAMP:20260423T055039
CREATED:20210921T031853Z
LAST-MODIFIED:20240605T033554Z
UID:10000244-1635499800-1638651600@victas.uca.org.au
SUMMARY:**POSTPONED - Understanding The UCA
DESCRIPTION:**UPDATE: This event has been postponed. A new date will be set soon. \n  \n2021 Understanding the UCA – Zoom \nWho for: \n• those in Ministry of Pastor positions who have not undertaken training in the Core Competencies \n• those in training to be Lay Preachers \n• you are new to the UCA\, and are already in a leadership role or wish to take up a leadership role in the UCA\, including worship and preaching \n  \nContent will cover the Core Competencies required for Ministry of Pastor and Ministry of Lay Preacher (see below) as well as some work in intercultural competency. \n  \n1. Articulate the key theological foundations of the Basis of Union: identify and explain the key theological themes expressed in the BoU (in particular paras 1 to 4) and the Creeds \n2. Describe key historical elements contributing to the formation of the Uniting Church \n3. Articulate the place and role of key aspects of the Church’s life and witness\, \n4. Understand the Councils and Ministries of the UCA \n  \nDates (all dates must be attended): \nFriday\, 29 October – 6-9pm \nSaturday\, 30 October – 9:30am-4:30pm \nFriday\, 3 December – 6-9pm \nSaturday\, 4 December – 9:30am-4:30pm \n  \nNote: participants will have the opportunity to demonstrate competency within the sessions to receive a Completion Certificate. \n  \nContact:\nMel Perkins (mel.perkins@victas.uca.org.au) and Dev Anandarajan (devanandan.anandarajan@victas.uca.org.au) \n  \nTo register\, click here \n  \n \n  \nTo download the flyer\, click here \n  \n 
URL:https://victas.uca.org.au/event/understanding-the-uca/
LOCATION:Online
ATTACH;FMTTYPE=image/jpeg:https://victas.uca.org.au/wp-content/uploads/2021/09/Understanding-the-UCA-banner.jpg
ORGANIZER;CN="Mel Perkins":MAILTO:mel.perkins@victas.uca.org.au
GEO:-37.8136276;144.9630576
END:VEVENT
BEGIN:VEVENT
DTSTART;TZID=Australia/Melbourne:20210901T190000
DTEND;TZID=Australia/Melbourne:20211020T210000
DTSTAMP:20260423T055039
CREATED:20210405T234507Z
LAST-MODIFIED:20240605T032505Z
UID:10000149-1630522800-1634763600@victas.uca.org.au
SUMMARY:Worship and Preaching Online Workshop - PREACHING
DESCRIPTION:Worship and Preaching training for Communities and Lay Leaders \n  \nThe world has and is changing and we are seeking new ways of leadership and being in church\, including worship and proclaiming God’s Word. \nJoin us for multiple options of engaging with 6 Worship Units and 6 Preaching Units. \nParticipants can choose their level of input and connection. Have a conversation with your faith community\, congregation or Presbytery about what would would be good for you and them. \nUnits are engaging and creative. Assessment is both theoretical and practical. \n  \nAccess 3 points of training: \n  \n\nOnline delivery across the Synod – 2 hours per week\nJoin others in Zoom delivery of Worship and Preaching workshops\, combining a tutorial based on the online units\, and input from a variety of church leaders.\n\n  \n\nAccess to online Worship and Preaching units\nAccess online units written around the Assembly W&P competencies for Lay Preachers and Ministry of Pastor.\n\n  \n\nLocal assessment\nFor those who opt for assessment\, this will occur within their Congregation/Faith Community/Hub or Presbytery.\n\n  \nWHEN: \n  \n**PLEASE ENSURE YOU TAKE NOTE OF TICKET END DATE FOR EACH SESSION** \n  \n1 Sept – Exploring Preaching – What is Preaching? \n\nwith Mel Perkins & Rev Dev Anandarajan\, Intercultural Leadership Development\, eLM\n\n**Ticket sales for this sessions ends at 10am Monday 30th August \n  \n8 Sept – Understanding Preaching 1 – Interpreting Biblical texts/working with difficult texts \n\nwith Mel Perkins & Rev Dr Sean Winter\, Head of Pilgrim Theological College\n\n**Ticket sales for this sessions ends at 10am Monday 6th September \n  \n15 Sept – Understanding Preaching 2 – Responding to the Word (as Preacher and hearer) \n\nwith Mel Perkins & Rev Gordon Wild\, Chaplain at Bendigo Health\n\n**Ticket sales for this sessions ends at 10am Monday 13th September \n  \n6 Oct – Preparing to Preach – Putting bits together/The art of Preaching \n\nwith Mel Perkins & Rev Linley Liersch\, Mission Development Strategist\, Presbytery of Port Phillip West\n\n**Ticket sales for this sessions ends at 10am Monday 4th October \n  \n13 Oct – Preaching as Leadership 1 – The ethics in and of Preaching/ Getting your message across: Communication in Preaching \n\nwith Mel Perkins & Rohan Pryor\, Synod Liaison Minister (Tasmania)\n\n**Ticket sales for this sessions ends at 10am Monday 11th October \n  \n20 Oct – Preaching as Leadership 2 – The challenges and joys of preaching as yourself/Preaching with Creativity and Imagination \n\nwith Mel Perkins & Rev Deacon Peter Batten\, Mission and Education Resourcing Minister\, Presbytery of Gippsland\n\n**Ticket sales for this sessions ends at 10am Monday 18th October \n  \nMel Perkins is the Lay Leadership Development Coordinator\, Equipping Leadership for Mission Unit\, for the Synod of Victoria and Tasmania \n  \nTo register\, click here \n  \nWorship and Preaching Online Training 2021 Flyer  \n 
URL:https://victas.uca.org.au/event/worship-and-preaching-online-workshop-preaching/
LOCATION:Online\, Australia
ATTACH;FMTTYPE=image/jpeg:https://victas.uca.org.au/wp-content/uploads/2021/04/image.jpg
ORGANIZER;CN="Mel Perkins":MAILTO:mel.perkins@victas.uca.org.au
GEO:-37.4713077;144.7851531
END:VEVENT
BEGIN:VEVENT
DTSTART;TZID=Australia/Melbourne:20210505T190000
DTEND;TZID=Australia/Melbourne:20210616T210000
DTSTAMP:20260423T055039
CREATED:20210405T233243Z
LAST-MODIFIED:20240605T032506Z
UID:10000148-1620241200-1623877200@victas.uca.org.au
SUMMARY:Worship and Preaching Online Workshop - WORSHIP
DESCRIPTION:Worship and Preaching training for Communities and Lay Leaders \n  \nThe world has and is changing and we are seeking new ways of leadership and being in church\, including worship and proclaiming God’s Word. \nJoin us for multiple options of engaging with 6 Worship Units and 6 Preaching Units. \nParticipants can choose their level of input and connection. Have a conversation with your faith community\, congregation or Presbytery about what would would be good for you and them. \nUnits are engaging and creative. Assessment is both theoretical and practical. \n  \nAccess 3 points of training: \n  \n\nOnline delivery across the Synod – 2 hours per week\nJoin others in Zoom delivery of Worship and Preaching workshops\, combining a tutorial based on the online units\, and input from a variety of church leaders.\n\n  \n\nAccess to online Worship and Preaching units\nAccess online units written around the Assembly W&P competencies for Lay Preachers and Ministry of Pastor.\n\n  \n\nLocal assessment\nFor those who opt for assessment\, this will occur within their Congregation/Faith Community/Hub or Presbytery.\n\n  \nWHEN: \n  \n**PLEASE ENSURE YOU TAKE NOTE OF TICKET END DATE FOR EACH SESSION** \n  \n5 May – Exploring Worship 1 – What is Worship? \n\nwith Mel Perkins & Dr Craig Mitchell\, Presbytery Minister – Church Development\, Port Phillip East Presbytery\n\n**Ticket sales for this sessions ends at 10am Monday 3rd May \n  \n12 May – Exploring Worship 2 – Worship as story or conversation/Exploring the Seasons (of the Church and the Earth) in Worship \n\nwith Mel Perkins & Rev Deacon Jeanne Beale\, Presbytery Minister\, Presbytery of Port Phillip West\n\n**Ticket sales for this sessions ends at 10am Monday 10th May \n  \n19 May – Understanding Worship – Theology of Worship/Multisensory & multiple intelligence approaches to Worship \n\nwith Mel Perkins & Rev Deacon Denise Savage\, Presbytery Minister – Leadership Formation\, Presbytery of Tasmania\n\n**Ticket sales for this sessions ends at 10am Monday 19th May \n  \n2 June – Preparing Worship 1 – Some of the nuts and bolts of Worship/ Inclusive Worship \n\nwith Mel Perkins & Rev Siotame Paletua\, Presbytery Minister Generalist\, Presbytery of Loddon Mallee\n\n**Ticket sales for this sessions ends at 10am Monday 31st May \n  \n9 June – Preparing and Leading Worship – Working with a theme/lectionary/curating resources \n\nwith Mel Perkins & Chris Barnett\, Intergenerational Ministry – Children and Families\, Equipping Leadership for Mission\n\n**Ticket sales for this sessions ends at 10am Monday 7th June \n  \n16 June – Leading Worship 2 – Communication in Worship/ Ethics in/of Worship (including self-awareness) \n\nwith Mel Perkins & Rev Robin Yang\, Intergenerational Ministry – Young Adults\, Equipping Leadership for Mission\n\n**Ticket sales for this sessions ends at 10am Monday 14th June \n  \nMel Perkins is the Lay Leadership Development Coordinator\, Equipping Leadership for Mission Unit\, for the Synod of Victoria and Tasmania \n  \nTo register\, click here \n  \nWorship and Preaching Online Training 2021 Flyer \n 
URL:https://victas.uca.org.au/event/worship-and-preaching-online-workshop-worship/
LOCATION:Online
ATTACH;FMTTYPE=image/jpeg:https://victas.uca.org.au/wp-content/uploads/2021/04/image.jpg
ORGANIZER;CN="Mel Perkins":MAILTO:mel.perkins@victas.uca.org.au
GEO:-37.8136276;144.9630576
END:VEVENT
END:VCALENDAR