BEGIN:VCALENDAR
VERSION:2.0
PRODID:-//Uniting Church in Australia. Synod of Victoria and Tasmania - ECPv6.15.17.1//NONSGML v1.0//EN
CALSCALE:GREGORIAN
METHOD:PUBLISH
X-ORIGINAL-URL:https://victas.uca.org.au
X-WR-CALDESC:Events for Uniting Church in Australia. Synod of Victoria and Tasmania
REFRESH-INTERVAL;VALUE=DURATION:PT1H
X-Robots-Tag:noindex
X-PUBLISHED-TTL:PT1H
BEGIN:VTIMEZONE
TZID:Australia/Melbourne
BEGIN:STANDARD
TZOFFSETFROM:+1100
TZOFFSETTO:+1000
TZNAME:AEST
DTSTART:20240406T160000
END:STANDARD
BEGIN:DAYLIGHT
TZOFFSETFROM:+1000
TZOFFSETTO:+1100
TZNAME:AEDT
DTSTART:20241005T160000
END:DAYLIGHT
BEGIN:STANDARD
TZOFFSETFROM:+1100
TZOFFSETTO:+1000
TZNAME:AEST
DTSTART:20250405T160000
END:STANDARD
BEGIN:DAYLIGHT
TZOFFSETFROM:+1000
TZOFFSETTO:+1100
TZNAME:AEDT
DTSTART:20251004T160000
END:DAYLIGHT
BEGIN:STANDARD
TZOFFSETFROM:+1100
TZOFFSETTO:+1000
TZNAME:AEST
DTSTART:20260404T160000
END:STANDARD
BEGIN:DAYLIGHT
TZOFFSETFROM:+1000
TZOFFSETTO:+1100
TZNAME:AEDT
DTSTART:20261003T160000
END:DAYLIGHT
END:VTIMEZONE
BEGIN:VEVENT
DTSTART;TZID=Australia/Melbourne:20250815T090000
DTEND;TZID=Australia/Melbourne:20250815T150000
DTSTAMP:20260423T054711
CREATED:20250602T035509Z
LAST-MODIFIED:20250812T053911Z
UID:10000342-1755248400-1755270000@victas.uca.org.au
SUMMARY:Resilience and Hope
DESCRIPTION:With 76% of young Australians expressing that ‘the future is frightening’ due to climate change\, this event aims to empower young leaders to navigate climate emotions and advocate for taking action on the ongoing climate crisis. More details to come prior to the event! \n  \n**This event is specifically for schools associated with the Uniting Church in Australia Network – Synod Victoria and Tasmania \n\nAudience: Students Year 6-8\nDay: Friday\, August 15\nTime: 9 am to 3 pm.\nLocation: Business Hub\, Level 1\, Wesley Place (130 Lonsdale St\, Melbourne)\nCost: AU$300 (Group of 10 students)\n\n  \nTo register\, click here \n  \nFor further details\, contact Paola Rojas paola.rojas@victas.uca.org.au
URL:https://victas.uca.org.au/event/resilience-and-hope/
LOCATION:Wesley Place\, 130 Lonsdale Street\, Melbourne\, Victoria\, 3000\, Australia
ATTACH;FMTTYPE=image/jpeg:https://victas.uca.org.au/wp-content/uploads/2025/01/unnamed-file.jpg
ORGANIZER;CN="Paola Rojas":MAILTO:paola.rojas@victas.uca.org.au
GEO:-37.8101202;144.9686266
X-APPLE-STRUCTURED-LOCATION;VALUE=URI;X-ADDRESS=Wesley Place 130 Lonsdale Street Melbourne Victoria 3000 Australia;X-APPLE-RADIUS=500;X-TITLE=130 Lonsdale Street:geo:144.9686266,-37.8101202
END:VEVENT
BEGIN:VEVENT
DTSTART;TZID=Australia/Melbourne:20250522T090000
DTEND;TZID=Australia/Melbourne:20250522T150000
DTSTAMP:20260423T054711
CREATED:20250407T232136Z
LAST-MODIFIED:20250408T024058Z
UID:10000341-1747904400-1747926000@victas.uca.org.au
SUMMARY:Power and Relationships
DESCRIPTION:Power and Relationships: Joining together for a just world \n  \nThis event aims to empower students’ voice and equip them with the skills to navigate the social and political power structure and to drive genuine change in their local communities. More details to come prior to the event!  \n**This event is specifically for schools associated with the Uniting Church in Australia Network – Synod Victoria and Tasmania \n  \n\nAudience: Students Year 9-10\nDay: Thursday\, May 22\nTime: 9 am to 3 pm.\nLocation: Business Hub\, Level 1\, Wesley Place (130 Lonsdale St\, Melbourne)\nCost: AU$300 (Group of 10 students)\n\n  \nTo register\, click here \n  \nFor further details\, contact Paola Rojas paola.rojas@victas.uca.org.au
URL:https://victas.uca.org.au/event/power-and-relationships/
LOCATION:Wesley Place\, 130 Lonsdale Street\, Melbourne\, Victoria\, 3000\, Australia
ATTACH;FMTTYPE=image/jpeg:https://victas.uca.org.au/wp-content/uploads/2025/04/unnamed-file.jpg
ORGANIZER;CN="Paola Rojas":MAILTO:paola.rojas@victas.uca.org.au
GEO:-37.8101202;144.9686266
X-APPLE-STRUCTURED-LOCATION;VALUE=URI;X-ADDRESS=Wesley Place 130 Lonsdale Street Melbourne Victoria 3000 Australia;X-APPLE-RADIUS=500;X-TITLE=130 Lonsdale Street:geo:144.9686266,-37.8101202
END:VEVENT
BEGIN:VEVENT
DTSTART;TZID=Australia/Melbourne:20250313T090000
DTEND;TZID=Australia/Melbourne:20250313T150000
DTSTAMP:20260423T054711
CREATED:20241111T032108Z
LAST-MODIFIED:20250226T235152Z
UID:10000331-1741856400-1741878000@victas.uca.org.au
SUMMARY:Agency and Empowerment - Leading at and beyond school
DESCRIPTION:This event aims to foster critical thinking and nurture leadership\, agency and empowerment in young leaders from Year 10 to 12. ​ \nJoin us to learn from industry leaders as they share their experiences and insights about ethical leadership. \nMore details to come prior to the event! \nWhen: Thursday 13 March 2025\, 9.00am to 3.00pm \nWhere: Wesley Place\, 130 Lonsdale Street\, Melbourne 3000 \nCost: $300 – group of 10 students \n  \nTo register\, click here \n  \n**This event is open specifically for schools in the Uniting Church Australia Network – Synod Victoria and Tasmania. \n  \nFor further details\, contact Paola Rojas paola.rojas@victas.uca.org.au \n  \n \n 
URL:https://victas.uca.org.au/event/agency-and-empowerment-leading-at-and-beyond-school/
LOCATION:Wesley Place\, 130 Lonsdale Street\, Melbourne\, Victoria\, 3000\, Australia
ATTACH;FMTTYPE=image/jpeg:https://victas.uca.org.au/wp-content/uploads/2024/11/Young-students-x-px.jpg
ORGANIZER;CN="Paola Rojas":MAILTO:paola.rojas@victas.uca.org.au
GEO:-37.8101202;144.9686266
X-APPLE-STRUCTURED-LOCATION;VALUE=URI;X-ADDRESS=Wesley Place 130 Lonsdale Street Melbourne Victoria 3000 Australia;X-APPLE-RADIUS=500;X-TITLE=130 Lonsdale Street:geo:144.9686266,-37.8101202
END:VEVENT
END:VCALENDAR