BEGIN:VCALENDAR
VERSION:2.0
PRODID:-//Uniting Church in Australia. Synod of Victoria and Tasmania - ECPv6.15.17.1//NONSGML v1.0//EN
CALSCALE:GREGORIAN
METHOD:PUBLISH
X-WR-CALNAME:Uniting Church in Australia. Synod of Victoria and Tasmania
X-ORIGINAL-URL:https://victas.uca.org.au
X-WR-CALDESC:Events for Uniting Church in Australia. Synod of Victoria and Tasmania
REFRESH-INTERVAL;VALUE=DURATION:PT1H
X-Robots-Tag:noindex
X-PUBLISHED-TTL:PT1H
BEGIN:VTIMEZONE
TZID:Australia/Melbourne
BEGIN:STANDARD
TZOFFSETFROM:+1100
TZOFFSETTO:+1000
TZNAME:AEST
DTSTART:20230401T160000
END:STANDARD
BEGIN:DAYLIGHT
TZOFFSETFROM:+1000
TZOFFSETTO:+1100
TZNAME:AEDT
DTSTART:20230930T160000
END:DAYLIGHT
BEGIN:STANDARD
TZOFFSETFROM:+1100
TZOFFSETTO:+1000
TZNAME:AEST
DTSTART:20240406T160000
END:STANDARD
BEGIN:DAYLIGHT
TZOFFSETFROM:+1000
TZOFFSETTO:+1100
TZNAME:AEDT
DTSTART:20241005T160000
END:DAYLIGHT
BEGIN:STANDARD
TZOFFSETFROM:+1100
TZOFFSETTO:+1000
TZNAME:AEST
DTSTART:20250405T160000
END:STANDARD
BEGIN:DAYLIGHT
TZOFFSETFROM:+1000
TZOFFSETTO:+1100
TZNAME:AEDT
DTSTART:20251004T160000
END:DAYLIGHT
END:VTIMEZONE
BEGIN:VEVENT
DTSTART;TZID=Australia/Melbourne:20240920T190000
DTEND;TZID=Australia/Melbourne:20240922T110000
DTSTAMP:20260423T071308
CREATED:20240731T054035Z
LAST-MODIFIED:20240902T024347Z
UID:10000324-1726858800-1727002800@victas.uca.org.au
SUMMARY:Feast of Faith
DESCRIPTION:This weekend\, we will focus on what it means to be a 1.5/2nd Generation member in the Uniting Church is Australia (UCA). We’ll explore the struggles and obstacles we face\, along with the joy we receive as 2nd Generation followers of Christ. We’ll discuss how we can equip\, enrich and encourage each other in this journey of life. \n  \nEvent name: Feast of Faith \nWhen: Friday 20th – Sunday 22nd of September 2024. Starts 7pm and finishes Sunday 11am (Morning Tea time) \nWhere: Peninsula Outdoors \nWho: UCA CALD members aged 18-40 \nCosts: Full weekend $100 (this includes all meals and accommodation) \nTo register\, click here \nCut off date for Registration: 1st of September \n 
URL:https://victas.uca.org.au/event/feast-of-faith/
LOCATION:Peninsula Outdoors (Merricks)\, Frankston - Flinders Road\, Merricks\, VIC\, 3916\, Australia
ATTACH;FMTTYPE=image/png:https://victas.uca.org.au/wp-content/uploads/2024/07/240724-eLM-MFA-Feast-of-Faith-Flyer-banner.png
ORGANIZER;CN="Virginia Lavaki":MAILTO:virginia.lavaki@victas.uca.org.au
GEO:-38.4028882;145.0715412
X-APPLE-STRUCTURED-LOCATION;VALUE=URI;X-ADDRESS=Peninsula Outdoors (Merricks) Frankston - Flinders Road Merricks VIC 3916 Australia;X-APPLE-RADIUS=500;X-TITLE=Frankston - Flinders Road:geo:145.0715412,-38.4028882
END:VEVENT
BEGIN:VEVENT
DTSTART;TZID=Australia/Melbourne:20240621T190000
DTEND;TZID=Australia/Melbourne:20240621T210000
DTSTAMP:20260423T071308
CREATED:20240522T020707Z
LAST-MODIFIED:20240625T032855Z
UID:10000315-1718996400-1719003600@victas.uca.org.au
SUMMARY:Po Talanoa (Night of Conversation)
DESCRIPTION:Younger Generations invite you to Po Talanoa (Night of Conversation).  \nJoin us for a night of storytelling\, sharing and fellowship. \n  \nWhen: Friday 21st of June 2024 \nTime: 7pm – 9pm \nWhere: Dandenong Regional Uniting Church – 32 Scott Street\, Dandenong\, VIC 3175 \nAge: 18-40 years old  \n  \nFor more information please contact Virginia Lavaki on 0484 189 318 \n  \nTo register\, click here
URL:https://victas.uca.org.au/event/po-talanoa-night-of-conversation/
LOCATION:Dandenong Regional Uniting Church\, Scott Street\, Dandenong\, Victoria\, 3175\, Australia
ATTACH;FMTTYPE=image/jpeg:https://victas.uca.org.au/wp-content/uploads/2024/05/PoTalanoa-banner-1000x500px.jpg
ORGANIZER;CN="Virginia Lavaki":MAILTO:virginia.lavaki@victas.uca.org.au
GEO:-37.9860949;145.2115565
X-APPLE-STRUCTURED-LOCATION;VALUE=URI;X-ADDRESS=Dandenong Regional Uniting Church Scott Street Dandenong Victoria 3175 Australia;X-APPLE-RADIUS=500;X-TITLE=Scott Street:geo:145.2115565,-37.9860949
END:VEVENT
END:VCALENDAR